BEGIN:VCALENDAR
PRODID:-//Pixl8//Eventfolio//EN
VERSION:2.0
X-WR-TIMEZONE:Europe/London
CALSCALE:GREGORIAN
METHOD:PUBLISH
CLASS:PUBLIC
BEGIN:VTIMEZONE
TZID:Europe/London
LAST-MODIFIED:20260306T231828Z
TZURL:https://www.tzurl.org/zoneinfo-outlook/Europe/London
X-LIC-LOCATION:Europe/London
BEGIN:DAYLIGHT
TZNAME:BST
TZOFFSETFROM:+0000
TZOFFSETTO:+0100
DTSTART:19700329T010000
RRULE:FREQ=YEARLY;BYMONTH=3;BYDAY=-1SU
END:DAYLIGHT
BEGIN:STANDARD
TZNAME:GMT
TZOFFSETFROM:+0100
TZOFFSETTO:+0000
DTSTART:19701025T020000
RRULE:FREQ=YEARLY;BYMONTH=10;BYDAY=-1SU
END:STANDARD
END:VTIMEZONE
BEGIN:VEVENT
DTSTART;TZID=Europe/London:20230612T090000
DTEND;TZID=Europe/London:20230612T173000
DTSTAMP:20260421T110303Z
UID:{8EA6F270-BA48-4A25-B7FF6888B7BC8DAF.45089}
LOCATION:Leeds
SUMMARY:UKMedLab23
DESCRIPTION:Event details: https://labmed.org.uk/events-and-awards/event-calendar/ukmedlab23.html
PRIORITY:1
END:VEVENT
BEGIN:VEVENT
DTSTART;TZID=Europe/London:20230613T080000
DTEND;TZID=Europe/London:20230613T174000
DTSTAMP:20260421T110303Z
UID:{8EA6F270-BA48-4A25-B7FF6888B7BC8DAF.45090}
LOCATION:Leeds
SUMMARY:UKMedLab23
DESCRIPTION:Event details: https://labmed.org.uk/events-and-awards/event-calendar/ukmedlab23.html
PRIORITY:1
END:VEVENT
BEGIN:VEVENT
DTSTART;TZID=Europe/London:20230614T080000
DTEND;TZID=Europe/London:20230614T173000
DTSTAMP:20260421T110303Z
UID:{8EA6F270-BA48-4A25-B7FF6888B7BC8DAF.45091}
LOCATION:Leeds
SUMMARY:UKMedLab23
DESCRIPTION:Event details: https://labmed.org.uk/events-and-awards/event-calendar/ukmedlab23.html
PRIORITY:1
END:VEVENT
END:VCALENDAR