BEGIN:VCALENDAR
PRODID:-//Pixl8//Eventfolio//EN
VERSION:2.0
X-WR-TIMEZONE:Europe/London
CALSCALE:GREGORIAN
METHOD:PUBLISH
CLASS:PUBLIC
BEGIN:VTIMEZONE
TZID:Europe/London
LAST-MODIFIED:20260306T231828Z
TZURL:https://www.tzurl.org/zoneinfo-outlook/Europe/London
X-LIC-LOCATION:Europe/London
BEGIN:DAYLIGHT
TZNAME:BST
TZOFFSETFROM:+0000
TZOFFSETTO:+0100
DTSTART:19700329T010000
RRULE:FREQ=YEARLY;BYMONTH=3;BYDAY=-1SU
END:DAYLIGHT
BEGIN:STANDARD
TZNAME:GMT
TZOFFSETFROM:+0100
TZOFFSETTO:+0000
DTSTART:19701025T020000
RRULE:FREQ=YEARLY;BYMONTH=10;BYDAY=-1SU
END:STANDARD
END:VTIMEZONE
BEGIN:VEVENT
DTSTART;TZID=Europe/London:20241119T170000
DTEND;TZID=Europe/London:20241119T180000
DTSTAMP:20260425T181952Z
UID:{6042A6A4-D6EF-4D88-9AFA668A809805D6}
LOCATION:Online
SUMMARY:The ejaculate – problems and promises from proteomics and other investigations
DESCRIPTION:Event details: https://labmed.org.uk/events-and-awards/event-calendar/the-ejaculate-problems-and-promises-from-proteomics-and-other-investigations.html
PRIORITY:1
END:VEVENT
END:VCALENDAR