BEGIN:VCALENDAR
PRODID:-//Pixl8//Eventfolio//EN
VERSION:2.0
X-WR-TIMEZONE:Europe/London
CALSCALE:GREGORIAN
METHOD:PUBLISH
CLASS:PUBLIC
BEGIN:VTIMEZONE
TZID:Europe/London
LAST-MODIFIED:20260306T231828Z
TZURL:https://www.tzurl.org/zoneinfo-outlook/Europe/London
X-LIC-LOCATION:Europe/London
BEGIN:DAYLIGHT
TZNAME:BST
TZOFFSETFROM:+0000
TZOFFSETTO:+0100
DTSTART:19700329T010000
RRULE:FREQ=YEARLY;BYMONTH=3;BYDAY=-1SU
END:DAYLIGHT
BEGIN:STANDARD
TZNAME:GMT
TZOFFSETFROM:+0100
TZOFFSETTO:+0000
DTSTART:19701025T020000
RRULE:FREQ=YEARLY;BYMONTH=10;BYDAY=-1SU
END:STANDARD
END:VTIMEZONE
BEGIN:VEVENT
DTSTART;TZID=Europe/London:20251215T140000
DTEND;TZID=Europe/London:20251215T170000
DTSTAMP:20260421T013901Z
UID:{055D53E1-F840-4666-984003B1748AC95C}
LOCATION:Great Ormond Street Hospital
SUMMARY:Thames Audit Group Regional Audit on Vitamin B12
DESCRIPTION:Event details: https://labmed.org.uk/events-and-awards/event-calendar/thames-audit-group-regional-audit-on-vitamin-b12.html
PRIORITY:1
END:VEVENT
END:VCALENDAR