BEGIN:VCALENDAR
PRODID:-//Pixl8//Eventfolio//EN
VERSION:2.0
X-WR-TIMEZONE:Europe/Brussels
CALSCALE:GREGORIAN
METHOD:PUBLISH
CLASS:PUBLIC
BEGIN:VTIMEZONE
TZID:Europe/Brussels
LAST-MODIFIED:20260306T231828Z
TZURL:https://www.tzurl.org/zoneinfo-outlook/Europe/Brussels
X-LIC-LOCATION:Europe/Brussels
BEGIN:DAYLIGHT
TZNAME:CEST
TZOFFSETFROM:+0100
TZOFFSETTO:+0200
DTSTART:19700329T020000
RRULE:FREQ=YEARLY;BYMONTH=3;BYDAY=-1SU
END:DAYLIGHT
BEGIN:STANDARD
TZNAME:CET
TZOFFSETFROM:+0200
TZOFFSETTO:+0100
DTSTART:19701025T030000
RRULE:FREQ=YEARLY;BYMONTH=10;BYDAY=-1SU
END:STANDARD
END:VTIMEZONE
BEGIN:VEVENT
DTSTART;TZID=Europe/Brussels:20240423T180000
DTEND;TZID=Europe/Brussels:20240423T190000
DTSTAMP:20260425T021712Z
UID:{9AF7B9A7-FEE1-4C9D-AC288C4EF09659B8}
LOCATION:Online
SUMMARY:Prioritizing patients’ safety by elevating standards in our laboratory processes
DESCRIPTION:Event details: https://labmed.org.uk/events-and-awards/event-calendar/prioritizing-patients-safety-by-elevating-standards-in-our-laboratory-processes.html
PRIORITY:1
END:VEVENT
END:VCALENDAR