BEGIN:VCALENDAR
PRODID:-//Pixl8//Eventfolio//EN
VERSION:2.0
X-WR-TIMEZONE:Europe/London
CALSCALE:GREGORIAN
METHOD:PUBLISH
CLASS:PUBLIC
BEGIN:VTIMEZONE
TZID:Europe/London
LAST-MODIFIED:20260306T231828Z
TZURL:https://www.tzurl.org/zoneinfo-outlook/Europe/London
X-LIC-LOCATION:Europe/London
BEGIN:DAYLIGHT
TZNAME:BST
TZOFFSETFROM:+0000
TZOFFSETTO:+0100
DTSTART:19700329T010000
RRULE:FREQ=YEARLY;BYMONTH=3;BYDAY=-1SU
END:DAYLIGHT
BEGIN:STANDARD
TZNAME:GMT
TZOFFSETFROM:+0100
TZOFFSETTO:+0000
DTSTART:19701025T020000
RRULE:FREQ=YEARLY;BYMONTH=10;BYDAY=-1SU
END:STANDARD
END:VTIMEZONE
BEGIN:VEVENT
DTSTART;TZID=Europe/London:20260203T100000
DTEND;TZID=Europe/London:20260203T110000
DTSTAMP:20260420T040731Z
UID:{FBAB423B-8DEE-41EE-A3D0950EE917042B}
LOCATION:MS Teams
SUMMARY:LabMed national update on lipids
DESCRIPTION:This online session will explore the latest UK standards for lipid reporting, including developments in lipid profile composition and LDL-c estimation, before providing an important update on the reinstatement of the PASS patient-management software tool for FH.\n
 \n
 Event details: https://labmed.org.uk/events-and-awards/event-calendar/labmed-national-update-on-lipids.html
PRIORITY:1
END:VEVENT
END:VCALENDAR