BEGIN:VCALENDAR
PRODID:-//Pixl8//Eventfolio//EN
VERSION:2.0
X-WR-TIMEZONE:Europe/London
CALSCALE:GREGORIAN
METHOD:PUBLISH
CLASS:PUBLIC
BEGIN:VTIMEZONE
TZID:Europe/London
LAST-MODIFIED:20260306T231828Z
TZURL:https://www.tzurl.org/zoneinfo-outlook/Europe/London
X-LIC-LOCATION:Europe/London
BEGIN:DAYLIGHT
TZNAME:BST
TZOFFSETFROM:+0000
TZOFFSETTO:+0100
DTSTART:19700329T010000
RRULE:FREQ=YEARLY;BYMONTH=3;BYDAY=-1SU
END:DAYLIGHT
BEGIN:STANDARD
TZNAME:GMT
TZOFFSETFROM:+0100
TZOFFSETTO:+0000
DTSTART:19701025T020000
RRULE:FREQ=YEARLY;BYMONTH=10;BYDAY=-1SU
END:STANDARD
END:VTIMEZONE
BEGIN:VEVENT
DTSTART;TZID=Europe/London;VALUE=DATE:20261124
DTEND;TZID=Europe/London;VALUE=DATE:20261127
DTSTAMP:20260423T113243Z
UID:{D847EBE3-B9A7-49D8-A36229D828FD104E}
LOCATION:Glasgow
SUMMARY:FIS International 2026
DESCRIPTION:The Federation of Infection Societies (FIS) conference is the largest UK-hosted, international infection conference. LabMed member discount.\n
 \n
 Event details: https://labmed.org.uk/events-and-awards/event-calendar/fis-international-2026.html
PRIORITY:1
END:VEVENT
END:VCALENDAR